BEGIN:VCALENDAR
VERSION:2.0
PRODID:-//pretix//pretix.eu//
BEGIN:VTIMEZONE
TZID:Europe/Berlin
BEGIN:STANDARD
DTSTART:20001029T040000
RRULE:FREQ=YEARLY;BYDAY=-1SU;BYMONTH=10
TZNAME:CET
TZOFFSETFROM:+0200
TZOFFSETTO:+0100
END:STANDARD
BEGIN:DAYLIGHT
DTSTART:20000326T030000
RRULE:FREQ=YEARLY;BYDAY=-1SU;BYMONTH=3
TZNAME:CEST
TZOFFSETFROM:+0100
TZOFFSETTO:+0200
END:DAYLIGHT
END:VTIMEZONE
BEGIN:VEVENT
UID:pretix-alpenwelt-lfnl-0@tickets.myalpenwelt.at
DTSTART;TZID=Europe/Berlin:20251229T220000
DTEND;TZID=Europe/Berlin:20251229T230000
DESCRIPTION:Tickets: https://tickets.myalpenwelt.at/lfnl/\nVeranstalter: Kr
 öll's Alpenwelt GmbH & Co KG
DTSTAMP:20260420T100710Z
LOCATION:Hannes Alm Königsleiten
SUMMARY:Taken by Croell presents Lange Frans
END:VEVENT
END:VCALENDAR
