BEGIN:VCALENDAR
VERSION:2.0
PRODID:-//pretix//pretix.eu//
BEGIN:VEVENT
UID:pretix-alpenwelt-winterbeats-0@tickets.myalpenwelt.at
DTSTART;VALUE=DATE:20260325
DTEND;VALUE=DATE:20260327
DESCRIPTION:Tickets: https://tickets.myalpenwelt.at/winterbeats/\nOrganizer
 : Kröll's Alpenwelt GmbH & Co KG
DTSTAMP:20260422T101628Z
LOCATION:Hannes Alm Königsleiten
SUMMARY:Winterbeats Festival
END:VEVENT
BEGIN:VEVENT
UID:pretix-alpenwelt-bfml-0@tickets.myalpenwelt.at
DTSTART;VALUE=DATE:20260403
DTEND;VALUE=DATE:20260406
DESCRIPTION:Tickets: https://tickets.myalpenwelt.at/bfml/\nOrganizer: Kröl
 l's Alpenwelt GmbH & Co KG
DTSTAMP:20260422T101628Z
LOCATION:Königsleiten\, Zillertal Arena
SUMMARY:Bergliebe Festival
END:VEVENT
END:VCALENDAR
